BEGIN:VCALENDAR
VERSION:2.0
PRODID:-//The Glasgow Phoenix Choir - ECPv6.15.20//NONSGML v1.0//EN
CALSCALE:GREGORIAN
METHOD:PUBLISH
X-WR-CALNAME:The Glasgow Phoenix Choir
X-ORIGINAL-URL:http://www.phoenixchoir.org
X-WR-CALDESC:Events for The Glasgow Phoenix Choir
REFRESH-INTERVAL;VALUE=DURATION:PT1H
X-Robots-Tag:noindex
X-PUBLISHED-TTL:PT1H
BEGIN:VTIMEZONE
TZID:Europe/London
BEGIN:DAYLIGHT
TZOFFSETFROM:+0000
TZOFFSETTO:+0100
TZNAME:BST
DTSTART:20250330T010000
END:DAYLIGHT
BEGIN:STANDARD
TZOFFSETFROM:+0100
TZOFFSETTO:+0000
TZNAME:GMT
DTSTART:20251026T010000
END:STANDARD
BEGIN:DAYLIGHT
TZOFFSETFROM:+0000
TZOFFSETTO:+0100
TZNAME:BST
DTSTART:20260329T010000
END:DAYLIGHT
BEGIN:STANDARD
TZOFFSETFROM:+0100
TZOFFSETTO:+0000
TZNAME:GMT
DTSTART:20261025T010000
END:STANDARD
BEGIN:DAYLIGHT
TZOFFSETFROM:+0000
TZOFFSETTO:+0100
TZNAME:BST
DTSTART:20270328T010000
END:DAYLIGHT
BEGIN:STANDARD
TZOFFSETFROM:+0100
TZOFFSETTO:+0000
TZNAME:GMT
DTSTART:20271031T010000
END:STANDARD
END:VTIMEZONE
BEGIN:VEVENT
DTSTART;TZID=Europe/London:20260607T143000
DTEND;TZID=Europe/London:20260607T170000
DTSTAMP:20260421T222550
CREATED:20260328T151348Z
LAST-MODIFIED:20260331T103808Z
UID:12709-1780842600-1780851600@www.phoenixchoir.org
SUMMARY:GLAGOW: Mackintosh Queen's Cross
DESCRIPTION:We’re looking forward to a return to this amazing venue after a number of years; a beautiful building with a wonderful acoustic. We’ll be helping the CRM Society to celebrate the 158th birthday of Glasgow artist architect\, and designer of this building\, Charles Rennie Mackintosh. \n\nTickets will be available from Monday 30th March from We Got Tickets.\n\nPhoto courtesy of Ronnie Kay.
URL:http://www.phoenixchoir.org/concert/glagow-mackintosh-queens-cross/
LOCATION:Mackintosh Queen’s Cross\, 870 Garscube Road\, Glasgow\, G20 7EL\, United Kingdom
END:VEVENT
END:VCALENDAR