BEGIN:VCALENDAR
VERSION:2.0
PRODID:-//The Glasgow Phoenix Choir - ECPv6.15.20//NONSGML v1.0//EN
CALSCALE:GREGORIAN
METHOD:PUBLISH
X-WR-CALNAME:The Glasgow Phoenix Choir
X-ORIGINAL-URL:http://www.phoenixchoir.org
X-WR-CALDESC:Events for The Glasgow Phoenix Choir
REFRESH-INTERVAL;VALUE=DURATION:PT1H
X-Robots-Tag:noindex
X-PUBLISHED-TTL:PT1H
BEGIN:VTIMEZONE
TZID:Europe/London
BEGIN:DAYLIGHT
TZOFFSETFROM:+0000
TZOFFSETTO:+0100
TZNAME:BST
DTSTART:20210328T010000
END:DAYLIGHT
BEGIN:STANDARD
TZOFFSETFROM:+0100
TZOFFSETTO:+0000
TZNAME:GMT
DTSTART:20211031T010000
END:STANDARD
BEGIN:DAYLIGHT
TZOFFSETFROM:+0000
TZOFFSETTO:+0100
TZNAME:BST
DTSTART:20220327T010000
END:DAYLIGHT
BEGIN:STANDARD
TZOFFSETFROM:+0100
TZOFFSETTO:+0000
TZNAME:GMT
DTSTART:20221030T010000
END:STANDARD
BEGIN:DAYLIGHT
TZOFFSETFROM:+0000
TZOFFSETTO:+0100
TZNAME:BST
DTSTART:20230326T010000
END:DAYLIGHT
BEGIN:STANDARD
TZOFFSETFROM:+0100
TZOFFSETTO:+0000
TZNAME:GMT
DTSTART:20231029T010000
END:STANDARD
END:VTIMEZONE
BEGIN:VEVENT
DTSTART;TZID=Europe/London:20221002T143000
DTEND;TZID=Europe/London:20221002T170000
DTSTAMP:20260423T014835
CREATED:20220807T113230Z
LAST-MODIFIED:20220807T120316Z
UID:6957-1664721000-1664730000@www.phoenixchoir.org
SUMMARY:HELENSBURGH - Parish Church
DESCRIPTION:The choir is delighted to announce the first concert of our 2022-23 season in Helensburgh Parish Church. We hope you can join us for this concert which is in support of two worthy causes – Lomond and Helensburgh Community Foodbank and Gareloch Parish Church roof fund. Tickets are available from the Parish Church Office & Peninsula Churches on Sundays; Helensburgh Foodbank Community Hub; by email from  cmurdoch@churchofscotland.org.uk or from WeGotTickets.
URL:http://www.phoenixchoir.org/concert/helensburgh-parish-church-2/
LOCATION:Helensburgh Parish Church\, Colquhoun Street\,\, Helensburgh\, Dunbartonshire\, G84 8UP\, United Kingdom
END:VEVENT
BEGIN:VEVENT
DTSTART;TZID=Europe/London:20221023T150000
DTEND;TZID=Europe/London:20221023T170000
DTSTAMP:20260423T014835
CREATED:20220807T114436Z
LAST-MODIFIED:20221007T150258Z
UID:6962-1666537200-1666544400@www.phoenixchoir.org
SUMMARY:KILLEARN - Parish Church
DESCRIPTION:Once again\, the choir will be returning to Killearn Parish Church to perform a concert in aid of Carers Trust. \nPlease come along and support this very worthwhile cause while enjoying an afternoon of beautiful music. Tickets are available from: Killearn Pharmacy\, the Kitchen Window and Rhubarb Lime Enquiries Tel: 01360 550994 or from We Got Tickets \n 
URL:http://www.phoenixchoir.org/concert/killearn-parish-church/
LOCATION:Killearn Kirk\, 8 Balfron Road\, Killearn\, G63 9NJ
END:VEVENT
BEGIN:VEVENT
DTSTART;TZID=Europe/London:20221030T143000
DTEND;TZID=Europe/London:20221030T170000
DTSTAMP:20260423T014835
CREATED:20220807T115039Z
LAST-MODIFIED:20221007T150835Z
UID:6967-1667140200-1667149200@www.phoenixchoir.org
SUMMARY:SHAWLANDS - Trinity Church
DESCRIPTION:Another welcome return for the choir to Shawlands Trinity Church. This concert is in support of the church and a donation will be made to Lepra\, which supports people who have leprosy. Tickets are available by phoning 0141 649 0266\, by email from shawlandstrinitychurch@gmail.com. Additional contact numbers for tickets are 07593 268299 or 0141 649 4826. They are also available at the door on the afternoon of the concert or online from We Got Tickets  \nWe extend our thanks to the following sponsors for their generous support of this concert: BD Decorators; Short & Sweet and an anonymous donor from the Church. \n 
URL:http://www.phoenixchoir.org/concert/shawlands-trinity-church/
LOCATION:Shawlands Trinity Church\, 5 Moss-side Road\, Glasgow\, G41 3TP\, United Kingdom
END:VEVENT
END:VCALENDAR