BEGIN:VCALENDAR
VERSION:2.0
PRODID:-//The Glasgow Phoenix Choir - ECPv6.15.20//NONSGML v1.0//EN
CALSCALE:GREGORIAN
METHOD:PUBLISH
X-ORIGINAL-URL:http://www.phoenixchoir.org
X-WR-CALDESC:Events for The Glasgow Phoenix Choir
REFRESH-INTERVAL;VALUE=DURATION:PT1H
X-Robots-Tag:noindex
X-PUBLISHED-TTL:PT1H
BEGIN:VTIMEZONE
TZID:Europe/London
BEGIN:DAYLIGHT
TZOFFSETFROM:+0000
TZOFFSETTO:+0100
TZNAME:BST
DTSTART:20210328T010000
END:DAYLIGHT
BEGIN:STANDARD
TZOFFSETFROM:+0100
TZOFFSETTO:+0000
TZNAME:GMT
DTSTART:20211031T010000
END:STANDARD
BEGIN:DAYLIGHT
TZOFFSETFROM:+0000
TZOFFSETTO:+0100
TZNAME:BST
DTSTART:20220327T010000
END:DAYLIGHT
BEGIN:STANDARD
TZOFFSETFROM:+0100
TZOFFSETTO:+0000
TZNAME:GMT
DTSTART:20221030T010000
END:STANDARD
BEGIN:DAYLIGHT
TZOFFSETFROM:+0000
TZOFFSETTO:+0100
TZNAME:BST
DTSTART:20230326T010000
END:DAYLIGHT
BEGIN:STANDARD
TZOFFSETFROM:+0100
TZOFFSETTO:+0000
TZNAME:GMT
DTSTART:20231029T010000
END:STANDARD
END:VTIMEZONE
BEGIN:VEVENT
DTSTART;TZID=Europe/London:20221120T143000
DTEND;TZID=Europe/London:20221120T170000
DTSTAMP:20260423T001534
CREATED:20220807T115738Z
LAST-MODIFIED:20220912T123850Z
UID:6970-1668954600-1668963600@www.phoenixchoir.org
SUMMARY:CAMBUSLANG - Parish Church
DESCRIPTION:Our fourth concert of the season sees us return to Cambuslang Parish Church. We’ll be singing a mixed programme of beautiful music. Please come along to help us support the church building fund. Tickets will be available locally (awaiting details) or by clicking this link: We Got Tickets \nPlease join us for refreshments after the concert.
URL:http://www.phoenixchoir.org/concert/cambuslang-parish-church-2/
LOCATION:Cambuslang Parish Church\,\, 1-2 Arnott Way\, Cambuslang\,\, Glasgow\, G72 7JQ\, United Kingdom
END:VEVENT
END:VCALENDAR