BEGIN:VCALENDAR
VERSION:2.0
PRODID:-//The Glasgow Phoenix Choir - ECPv6.15.20//NONSGML v1.0//EN
CALSCALE:GREGORIAN
METHOD:PUBLISH
X-ORIGINAL-URL:http://www.phoenixchoir.org
X-WR-CALDESC:Events for The Glasgow Phoenix Choir
REFRESH-INTERVAL;VALUE=DURATION:PT1H
X-Robots-Tag:noindex
X-PUBLISHED-TTL:PT1H
BEGIN:VTIMEZONE
TZID:Europe/London
BEGIN:DAYLIGHT
TZOFFSETFROM:+0000
TZOFFSETTO:+0100
TZNAME:BST
DTSTART:20210328T010000
END:DAYLIGHT
BEGIN:STANDARD
TZOFFSETFROM:+0100
TZOFFSETTO:+0000
TZNAME:GMT
DTSTART:20211031T010000
END:STANDARD
BEGIN:DAYLIGHT
TZOFFSETFROM:+0000
TZOFFSETTO:+0100
TZNAME:BST
DTSTART:20220327T010000
END:DAYLIGHT
BEGIN:STANDARD
TZOFFSETFROM:+0100
TZOFFSETTO:+0000
TZNAME:GMT
DTSTART:20221030T010000
END:STANDARD
BEGIN:DAYLIGHT
TZOFFSETFROM:+0000
TZOFFSETTO:+0100
TZNAME:BST
DTSTART:20230326T010000
END:DAYLIGHT
BEGIN:STANDARD
TZOFFSETFROM:+0100
TZOFFSETTO:+0000
TZNAME:GMT
DTSTART:20231029T010000
END:STANDARD
END:VTIMEZONE
BEGIN:VEVENT
DTSTART;TZID=Europe/London:20221204T150000
DTEND;TZID=Europe/London:20221204T170000
DTSTAMP:20260422T224331
CREATED:20221010T114643Z
LAST-MODIFIED:20221126T130834Z
UID:7092-1670166000-1670173200@www.phoenixchoir.org
SUMMARY:LOCHGILPHEAD: Parish Church
DESCRIPTION:The choir looks forward to a return to Lochgilphead Parish Church when we’ll be helping to raise funds for Mid Argyll Arts. Tickets cost £15.00; concessions £13.00; students and school children free; all available from Mid Argyll Arts Association 
URL:http://www.phoenixchoir.org/concert/lochgilphead-parish-church/
LOCATION:Lochgilphead Parish Church\, Argyll Street\, Lochgilphead\, PA31 8RD\, United Kingdom
END:VEVENT
BEGIN:VEVENT
DTSTART;TZID=Europe/London:20221206T120000
DTEND;TZID=Europe/London:20221206T140000
DTSTAMP:20260422T224331
CREATED:20221012T131656Z
LAST-MODIFIED:20221017T114310Z
UID:7107-1670328000-1670335200@www.phoenixchoir.org
SUMMARY:GLASGOW: The Merchants' House
DESCRIPTION:The choir is looking forward to performing a lunch-time concert in the beautiful setting of the Merchants’ House of Glasgow\, which will help to raise funds for charities across Glasgow and the West of Scotland. Doors open at 12:00 for mulled wine and mincemeat pies included\, in the ticket price. Concert commences at 13:00 for one hour. Tickets can be obtained directly from the Merchants’ House.  \n 
URL:http://www.phoenixchoir.org/concert/glasgow-the-merchants-house-2/
LOCATION:Merchants House of Glasgow\, 7 West George Street\, Glasgow\, G2 1BA\, United Kingdom
END:VEVENT
BEGIN:VEVENT
DTSTART;TZID=Europe/London:20221210T193000
DTEND;TZID=Europe/London:20221210T213000
DTSTAMP:20260422T224331
CREATED:20221010T115204Z
LAST-MODIFIED:20221012T151221Z
UID:7094-1670700600-1670707800@www.phoenixchoir.org
SUMMARY:EAST KILBRIDE: Moncreiff Parish Church
DESCRIPTION:Once again\, we will be singing in a favourite venue for the choir – Moncreiff Parish Church. The programme will contain a mix of music with some Christmas favourites. Tickets will be on sale at the church or from We Got Tickets.
URL:http://www.phoenixchoir.org/concert/east-kilbride-moncreiff-parish-church-3/
LOCATION:Moncreiff Parish Church\, East Kilbride\, Maxwellton Rd\, Glasgow\, G74 3JJ\, United Kingdom
END:VEVENT
BEGIN:VEVENT
DTSTART;TZID=Europe/London:20221211T150000
DTEND;TZID=Europe/London:20221211T170000
DTSTAMP:20260422T224331
CREATED:20221010T115811Z
LAST-MODIFIED:20221012T130734Z
UID:7096-1670770800-1670778000@www.phoenixchoir.org
SUMMARY:EDINBURGH: Freemasons' Hall
DESCRIPTION:The choir is delighted to return to the Freemasons’ Hall in Edinburgh. Last year’s concert had to be cancelled\, so if you did not refund tickets bought\, they will be honoured for this new date.  The concert will raise money for Prostate Scotland. Tickets will be available from the Grand Lodge Reception or by calling 0131 225 5577 and they are also available via the choir’s website at We Got Tickets.\n \nAn interval glass of wine is included in the ticket price. 
URL:http://www.phoenixchoir.org/concert/edinburgh-freemasons-hall-4/
LOCATION:Freemasons’ Hall\, Edinburgh\, 96 George Street\, Edinburgh\, EH2 3DH\, United Kingdom
END:VEVENT
BEGIN:VEVENT
DTSTART;TZID=Europe/London:20221216T193000
DTEND;TZID=Europe/London:20221216T220000
DTSTAMP:20260422T224331
CREATED:20221010T120739Z
LAST-MODIFIED:20221010T120840Z
UID:7098-1671219000-1671228000@www.phoenixchoir.org
SUMMARY:GLASGOW: Royal Concert Hall
DESCRIPTION:Our annual Christmas concert in the Glasgow Royal Concert Hall is one we always look forward to. Our special guests for this event will be the wonderful Whitburn Band and\, for the first time\, Glasgow CREATE Junior\, Senior and Chamber Choirs whose Musical Director is our very own Cameron Murdoch. Tickets start at £11.00 and are on sale now from GRCH.
URL:http://www.phoenixchoir.org/concert/glasgow-royal-concert-hall-6/
LOCATION:Glasgow Royal Concert Hall\, Sauchiehall Street\, Glasgow\, G2 3NY
END:VEVENT
END:VCALENDAR