BEGIN:VCALENDAR
VERSION:2.0
PRODID:-//The Glasgow Phoenix Choir - ECPv6.15.20//NONSGML v1.0//EN
CALSCALE:GREGORIAN
METHOD:PUBLISH
X-WR-CALNAME:The Glasgow Phoenix Choir
X-ORIGINAL-URL:http://www.phoenixchoir.org
X-WR-CALDESC:Events for The Glasgow Phoenix Choir
REFRESH-INTERVAL;VALUE=DURATION:PT1H
X-Robots-Tag:noindex
X-PUBLISHED-TTL:PT1H
BEGIN:VTIMEZONE
TZID:Europe/London
BEGIN:DAYLIGHT
TZOFFSETFROM:+0000
TZOFFSETTO:+0100
TZNAME:BST
DTSTART:20220327T010000
END:DAYLIGHT
BEGIN:STANDARD
TZOFFSETFROM:+0100
TZOFFSETTO:+0000
TZNAME:GMT
DTSTART:20221030T010000
END:STANDARD
BEGIN:DAYLIGHT
TZOFFSETFROM:+0000
TZOFFSETTO:+0100
TZNAME:BST
DTSTART:20230326T010000
END:DAYLIGHT
BEGIN:STANDARD
TZOFFSETFROM:+0100
TZOFFSETTO:+0000
TZNAME:GMT
DTSTART:20231029T010000
END:STANDARD
BEGIN:DAYLIGHT
TZOFFSETFROM:+0000
TZOFFSETTO:+0100
TZNAME:BST
DTSTART:20240331T010000
END:DAYLIGHT
BEGIN:STANDARD
TZOFFSETFROM:+0100
TZOFFSETTO:+0000
TZNAME:GMT
DTSTART:20241027T010000
END:STANDARD
END:VTIMEZONE
BEGIN:VEVENT
DTSTART;TZID=Europe/London:20231002T193000
DTEND;TZID=Europe/London:20231002T213000
DTSTAMP:20260422T074734
CREATED:20230516T114038Z
LAST-MODIFIED:20230516T114038Z
UID:7398-1696275000-1696282200@www.phoenixchoir.org
SUMMARY:GLASGOW: St John's-Renfield
DESCRIPTION:The choir will be hosting an Open Rehearsal and YOU are invited. Our conductor\, Cameron Murdoch\, will put us all through our singing paces and you can have the chance to sing with us and to see how we work. Choir members will be available to chat to and answer any questions after the rehearsal when we’ll be offering refreshments after your efforts. We would love to welcome you to our rehearsal.
URL:http://www.phoenixchoir.org/concert/glasgow-st-johns-renfield/
LOCATION:St John’s Renfield\, 22 Beaconsfield Road\, Glasgow\, G12 0NY\, United Kingdom
END:VEVENT
END:VCALENDAR