BEGIN:VCALENDAR
VERSION:2.0
PRODID:-//The Glasgow Phoenix Choir - ECPv6.15.20//NONSGML v1.0//EN
CALSCALE:GREGORIAN
METHOD:PUBLISH
X-ORIGINAL-URL:http://www.phoenixchoir.org
X-WR-CALDESC:Events for The Glasgow Phoenix Choir
REFRESH-INTERVAL;VALUE=DURATION:PT1H
X-Robots-Tag:noindex
X-PUBLISHED-TTL:PT1H
BEGIN:VTIMEZONE
TZID:Europe/London
BEGIN:DAYLIGHT
TZOFFSETFROM:+0000
TZOFFSETTO:+0100
TZNAME:BST
DTSTART:20230326T010000
END:DAYLIGHT
BEGIN:STANDARD
TZOFFSETFROM:+0100
TZOFFSETTO:+0000
TZNAME:GMT
DTSTART:20231029T010000
END:STANDARD
BEGIN:DAYLIGHT
TZOFFSETFROM:+0000
TZOFFSETTO:+0100
TZNAME:BST
DTSTART:20240331T010000
END:DAYLIGHT
BEGIN:STANDARD
TZOFFSETFROM:+0100
TZOFFSETTO:+0000
TZNAME:GMT
DTSTART:20241027T010000
END:STANDARD
BEGIN:DAYLIGHT
TZOFFSETFROM:+0000
TZOFFSETTO:+0100
TZNAME:BST
DTSTART:20250330T010000
END:DAYLIGHT
BEGIN:STANDARD
TZOFFSETFROM:+0100
TZOFFSETTO:+0000
TZNAME:GMT
DTSTART:20251026T010000
END:STANDARD
END:VTIMEZONE
BEGIN:VEVENT
DTSTART;TZID=Europe/London:20240122T193000
DTEND;TZID=Europe/London:20240122T213000
DTSTAMP:20260422T031307
CREATED:20240114T124317Z
LAST-MODIFIED:20240114T124317Z
UID:7964-1705951800-1705959000@www.phoenixchoir.org
SUMMARY:GLASGOW: St John's-Renfield
DESCRIPTION:The choir will be hosting an Open Rehearsal in order to attract new members. We are particularly looking for tenors and basses but would welcome new members in all sections. You can sit in and sing with the choir and see how we rehearse; afterwards there will be refreshments and the chance to find out more about the life of the choir. As a member of the choir\, there’s the opportunity to learn beautiful music and sing in a range of wonderful venues. Whether you are an experienced singer or a novice to choral music\, you would be made very welcome at this taster event.
URL:http://www.phoenixchoir.org/concert/glasgow-st-johns-renfield-2/
LOCATION:St John’s Renfield\, 22 Beaconsfield Road\, Glasgow\, G12 0NY\, United Kingdom
END:VEVENT
END:VCALENDAR