BEGIN:VCALENDAR
VERSION:2.0
PRODID:-//The Glasgow Phoenix Choir - ECPv6.15.20//NONSGML v1.0//EN
CALSCALE:GREGORIAN
METHOD:PUBLISH
X-ORIGINAL-URL:http://www.phoenixchoir.org
X-WR-CALDESC:Events for The Glasgow Phoenix Choir
REFRESH-INTERVAL;VALUE=DURATION:PT1H
X-Robots-Tag:noindex
X-PUBLISHED-TTL:PT1H
BEGIN:VTIMEZONE
TZID:Europe/London
BEGIN:DAYLIGHT
TZOFFSETFROM:+0000
TZOFFSETTO:+0100
TZNAME:BST
DTSTART:20230326T010000
END:DAYLIGHT
BEGIN:STANDARD
TZOFFSETFROM:+0100
TZOFFSETTO:+0000
TZNAME:GMT
DTSTART:20231029T010000
END:STANDARD
BEGIN:DAYLIGHT
TZOFFSETFROM:+0000
TZOFFSETTO:+0100
TZNAME:BST
DTSTART:20240331T010000
END:DAYLIGHT
BEGIN:STANDARD
TZOFFSETFROM:+0100
TZOFFSETTO:+0000
TZNAME:GMT
DTSTART:20241027T010000
END:STANDARD
BEGIN:DAYLIGHT
TZOFFSETFROM:+0000
TZOFFSETTO:+0100
TZNAME:BST
DTSTART:20250330T010000
END:DAYLIGHT
BEGIN:STANDARD
TZOFFSETFROM:+0100
TZOFFSETTO:+0000
TZNAME:GMT
DTSTART:20251026T010000
END:STANDARD
END:VTIMEZONE
BEGIN:VEVENT
DTSTART;TZID=Europe/London:20240420T143000
DTEND;TZID=Europe/London:20240420T170000
DTSTAMP:20260421T221901
CREATED:20240114T130023Z
LAST-MODIFIED:20240114T130023Z
UID:7966-1713623400-1713632400@www.phoenixchoir.org
SUMMARY:GLASGOW: RSNO Auditorium
DESCRIPTION:The choir will be performing its annual spring concert in the RSNO Auditorium this April. Tickets are available from GRCH box office. \nOur special guests for this concert will be A Choired Taste from Kilmarnock. We are rehearsing hard and looking forward to this event.
URL:http://www.phoenixchoir.org/concert/glasgow-rsno-auditorium-5/
LOCATION:Glasgow Royal Concert Hall\, Sauchiehall Street\, Glasgow\, G2 3NY
END:VEVENT
END:VCALENDAR