BEGIN:VCALENDAR
VERSION:2.0
PRODID:-//The Glasgow Phoenix Choir - ECPv6.15.20//NONSGML v1.0//EN
CALSCALE:GREGORIAN
METHOD:PUBLISH
X-WR-CALNAME:The Glasgow Phoenix Choir
X-ORIGINAL-URL:http://www.phoenixchoir.org
X-WR-CALDESC:Events for The Glasgow Phoenix Choir
REFRESH-INTERVAL;VALUE=DURATION:PT1H
X-Robots-Tag:noindex
X-PUBLISHED-TTL:PT1H
BEGIN:VTIMEZONE
TZID:Europe/London
BEGIN:DAYLIGHT
TZOFFSETFROM:+0000
TZOFFSETTO:+0100
TZNAME:BST
DTSTART:20230326T010000
END:DAYLIGHT
BEGIN:STANDARD
TZOFFSETFROM:+0100
TZOFFSETTO:+0000
TZNAME:GMT
DTSTART:20231029T010000
END:STANDARD
BEGIN:DAYLIGHT
TZOFFSETFROM:+0000
TZOFFSETTO:+0100
TZNAME:BST
DTSTART:20240331T010000
END:DAYLIGHT
BEGIN:STANDARD
TZOFFSETFROM:+0100
TZOFFSETTO:+0000
TZNAME:GMT
DTSTART:20241027T010000
END:STANDARD
BEGIN:DAYLIGHT
TZOFFSETFROM:+0000
TZOFFSETTO:+0100
TZNAME:BST
DTSTART:20250330T010000
END:DAYLIGHT
BEGIN:STANDARD
TZOFFSETFROM:+0100
TZOFFSETTO:+0000
TZNAME:GMT
DTSTART:20251026T010000
END:STANDARD
END:VTIMEZONE
BEGIN:VEVENT
DTSTART;TZID=Europe/London:20241207T190000
DTEND;TZID=Europe/London:20241207T213000
DTSTAMP:20260421T132155
CREATED:20241004T130424Z
LAST-MODIFIED:20241007T104445Z
UID:11145-1733598000-1733607000@www.phoenixchoir.org
SUMMARY:STRATHBLANE - Parish Church
DESCRIPTION:The choir looks forward to our first visit to Strathblane PC in aid of church funds. We’ll be singing a mixture of repertoire\, including Christmas favourites. Tickets will be available from the Fellowship Group\,  Strathblane Library and online at  WeGotTickets.
URL:http://www.phoenixchoir.org/concert/strathblane-parish-church/
LOCATION:Strathblane Parish Church\, Campsie Rd\, Strathblane\, G63 9AA\, United Kingdom
END:VEVENT
BEGIN:VEVENT
DTSTART;TZID=Europe/London:20241208T150000
DTEND;TZID=Europe/London:20241208T170000
DTSTAMP:20260421T132155
CREATED:20240912T120750Z
LAST-MODIFIED:20250205T124650Z
UID:10215-1733670000-1733677200@www.phoenixchoir.org
SUMMARY:EDINBURGH: Freemasons Hall
DESCRIPTION:  \n  \n\nThe choir looks forward each year to our Christmas concert in the Freemasons Hall; it’s always a joyous event. Tickets will be available from Grand Lodge Reception or telephone 0131 225 5577 or online from WeGotTickets. \nProceeds to Prostate Cancer.
URL:http://www.phoenixchoir.org/concert/edinburgh-freemasons-hall-6/
LOCATION:Freemasons’ Hall\, Edinburgh\, 96 George Street\, Edinburgh\, EH2 3DH\, United Kingdom
END:VEVENT
BEGIN:VEVENT
DTSTART;TZID=Europe/London:20241213T193000
DTEND;TZID=Europe/London:20241213T220000
DTSTAMP:20260421T132155
CREATED:20240912T123044Z
LAST-MODIFIED:20240928T115608Z
UID:10227-1734118200-1734127200@www.phoenixchoir.org
SUMMARY:GLASGOW: Royal Concert Hall
DESCRIPTION:One of the biggest events on the choir’s calendar is our annual Christmas concert in Glasgow’s Royal Concert Hall. This year we have a wonderful array of guests: Whitburn Band; The Farmers Choir and Glasgow CREATE Junior\, Senior and Chamber Choirs. We can hardly wait. \nTickets on sale now from GRCH or call the Box Office: 0141 353 8000 \nThe proceeds of this 2024 concert will support the work of Maggie’s Centres in Glasgow and Lanarkshire.
URL:http://www.phoenixchoir.org/concert/glasgow-royal-concert-hall-8/
LOCATION:Glasgow Royal Concert Hall\, Sauchiehall Street\, Glasgow\, G2 3NY
END:VEVENT
BEGIN:VEVENT
DTSTART;TZID=Europe/London:20241214T143000
DTEND;TZID=Europe/London:20241214T170000
DTSTAMP:20260421T132155
CREATED:20240912T121615Z
LAST-MODIFIED:20240916T103142Z
UID:10221-1734186600-1734195600@www.phoenixchoir.org
SUMMARY:EAST KILBRIDE: Moncreiff Parish Church
DESCRIPTION:It wouldn’t be Christmas without a concert in Moncreiff – we always have a great time there. Fortunately\, our audiences do\, too. Tickets are available from The Church Ofﬁce Mon – Fri 09.30 – 11.30 Telephone: 01355 223328 and online at WeGotTickets. \nProceeds to church funds.
URL:http://www.phoenixchoir.org/concert/east-kilbride-moncreiff-parish-church-6/
LOCATION:Moncreiff Parish Church\, East Kilbride\, Maxwellton Rd\, Glasgow\, G74 3JJ\, United Kingdom
END:VEVENT
END:VCALENDAR