BEGIN:VCALENDAR
VERSION:2.0
PRODID:-//The Glasgow Phoenix Choir - ECPv6.15.20//NONSGML v1.0//EN
CALSCALE:GREGORIAN
METHOD:PUBLISH
X-WR-CALNAME:The Glasgow Phoenix Choir
X-ORIGINAL-URL:http://www.phoenixchoir.org
X-WR-CALDESC:Events for The Glasgow Phoenix Choir
REFRESH-INTERVAL;VALUE=DURATION:PT1H
X-Robots-Tag:noindex
X-PUBLISHED-TTL:PT1H
BEGIN:VTIMEZONE
TZID:Europe/London
BEGIN:DAYLIGHT
TZOFFSETFROM:+0000
TZOFFSETTO:+0100
TZNAME:BST
DTSTART:20240331T010000
END:DAYLIGHT
BEGIN:STANDARD
TZOFFSETFROM:+0100
TZOFFSETTO:+0000
TZNAME:GMT
DTSTART:20241027T010000
END:STANDARD
BEGIN:DAYLIGHT
TZOFFSETFROM:+0000
TZOFFSETTO:+0100
TZNAME:BST
DTSTART:20250330T010000
END:DAYLIGHT
BEGIN:STANDARD
TZOFFSETFROM:+0100
TZOFFSETTO:+0000
TZNAME:GMT
DTSTART:20251026T010000
END:STANDARD
BEGIN:DAYLIGHT
TZOFFSETFROM:+0000
TZOFFSETTO:+0100
TZNAME:BST
DTSTART:20260329T010000
END:DAYLIGHT
BEGIN:STANDARD
TZOFFSETFROM:+0100
TZOFFSETTO:+0000
TZNAME:GMT
DTSTART:20261025T010000
END:STANDARD
END:VTIMEZONE
BEGIN:VEVENT
DTSTART;TZID=Europe/London:20250508T143000
DTEND;TZID=Europe/London:20250508T170000
DTSTAMP:20260421T121118
CREATED:20250508T141922Z
LAST-MODIFIED:20250508T141922Z
UID:11953-1746714600-1746723600@www.phoenixchoir.org
SUMMARY:DUNOON: Queen's Hall
DESCRIPTION:The choir’s first performance of the year in our 75th season. (I know\, we don’t look it.) We are all excited to be back together after the summer break and looking forward to a return trip\, after many years\, to Dunoon. Tickets will be available soon.
URL:http://www.phoenixchoir.org/concert/dunoon-queens-hall/
LOCATION:Queen’s Hall\, 9 Argyll Street\, Dunoon\, PA23 7HH
END:VEVENT
BEGIN:VEVENT
DTSTART;TZID=Europe/London:20250517T193000
DTEND;TZID=Europe/London:20250517T210000
DTSTAMP:20260421T121118
CREATED:20250115T153455Z
LAST-MODIFIED:20250211T155611Z
UID:11495-1747510200-1747515600@www.phoenixchoir.org
SUMMARY:GLASGOW: St Andrew's Metropolitan Cathedral
DESCRIPTION:We are always delighted to welcome guests to Glasgow at any time and so much the better if they can sing!!! Please welcome the Bangor Ladies Choir. We will be performing together to raise funds for local charities. Tickets will be on sale at the cathedral and from WeGotTickets. \n 
URL:http://www.phoenixchoir.org/concert/glasgow-st-andrews-metropolitan-cathedral/
LOCATION:St Andrew’s Metropolitan Cathedral\, Clyde Street\, Glasgow\, G1 4ER
END:VEVENT
END:VCALENDAR