BEGIN:VCALENDAR
VERSION:2.0
PRODID:-//The Glasgow Phoenix Choir - ECPv6.15.20//NONSGML v1.0//EN
CALSCALE:GREGORIAN
METHOD:PUBLISH
X-ORIGINAL-URL:http://www.phoenixchoir.org
X-WR-CALDESC:Events for The Glasgow Phoenix Choir
REFRESH-INTERVAL;VALUE=DURATION:PT1H
X-Robots-Tag:noindex
X-PUBLISHED-TTL:PT1H
BEGIN:VTIMEZONE
TZID:Europe/London
BEGIN:DAYLIGHT
TZOFFSETFROM:+0000
TZOFFSETTO:+0100
TZNAME:BST
DTSTART:20240331T010000
END:DAYLIGHT
BEGIN:STANDARD
TZOFFSETFROM:+0100
TZOFFSETTO:+0000
TZNAME:GMT
DTSTART:20241027T010000
END:STANDARD
BEGIN:DAYLIGHT
TZOFFSETFROM:+0000
TZOFFSETTO:+0100
TZNAME:BST
DTSTART:20250330T010000
END:DAYLIGHT
BEGIN:STANDARD
TZOFFSETFROM:+0100
TZOFFSETTO:+0000
TZNAME:GMT
DTSTART:20251026T010000
END:STANDARD
BEGIN:DAYLIGHT
TZOFFSETFROM:+0000
TZOFFSETTO:+0100
TZNAME:BST
DTSTART:20260329T010000
END:DAYLIGHT
BEGIN:STANDARD
TZOFFSETFROM:+0100
TZOFFSETTO:+0000
TZNAME:GMT
DTSTART:20261025T010000
END:STANDARD
END:VTIMEZONE
BEGIN:VEVENT
DTSTART;TZID=Europe/London:20250908T193000
DTEND;TZID=Europe/London:20250908T213000
DTSTAMP:20260421T160208
CREATED:20250730T115242Z
LAST-MODIFIED:20250730T115242Z
UID:12027-1757359800-1757367000@www.phoenixchoir.org
SUMMARY:GLASGOW: St John's-Renfield Church
DESCRIPTION:Open Rehearsal:  \nThe choir invites you to join us at our 75th season Open Rehearsal  \nEveryone is welcome – BUT\, we are particularly keen to recruit more men to join our current tenor and bass sections. \nAfter the singing there will be refreshments and a chance to meet choir members when you can learn more about becoming part of the choir.
URL:http://www.phoenixchoir.org/concert/glasgow-st-johns-renfield-church/
LOCATION:St John’s Renfield\, 22 Beaconsfield Road\, Glasgow\, G12 0NY\, United Kingdom
END:VEVENT
BEGIN:VEVENT
DTSTART;TZID=Europe/London:20250913T143000
DTEND;TZID=Europe/London:20250913T170000
DTSTAMP:20260421T160208
CREATED:20250520T151543Z
LAST-MODIFIED:20250521T093219Z
UID:11988-1757773800-1757782800@www.phoenixchoir.org
SUMMARY:DUNOON: Queen's Hall
DESCRIPTION:After many\, many\, many (etc.) years\, the choir is making a return visit to Dunoon – and we’re ultra-excited about it. On this occasion we’ll be performing in the Queen’s Hall. The concert is being co-hosted by two local churches – Cowal Kirk and St Mun’s RC Church. Tickets are available locally from the churches on Sundays or at ‘The Wee Shop’\, Dunoon. (Note to self – sweeties!) They are also available now from WeGotTickets.
URL:http://www.phoenixchoir.org/concert/dunoon-queens-hall-2/
LOCATION:Queen’s Hall\, 9 Argyll Street\, Dunoon\, PA23 7HH
END:VEVENT
BEGIN:VEVENT
DTSTART;TZID=Europe/London:20250921T143000
DTEND;TZID=Europe/London:20250921T170000
DTSTAMP:20260421T160208
CREATED:20250504T114828Z
LAST-MODIFIED:20250818T154521Z
UID:11938-1758465000-1758474000@www.phoenixchoir.org
SUMMARY:BISHOPTON: Parish Church
DESCRIPTION:The choir looks forward to a return to Bishopton Parish Church\, one of the first concerts of our 75th season. Tickets will be available from the church on Sundays or from any Social Committee Member. Tickets are available from WeGotTickets . Doors will open at 14:00 on the day. Proceeds from the concert will be in aid of church funds.
URL:http://www.phoenixchoir.org/concert/bishopton-parish-church/
LOCATION:Bishopton Parish Church\, Erskine Ferry Road\,\, Bishopton\, Renfrewshire\, PA7 5PP\, United Kingdom
END:VEVENT
END:VCALENDAR