BEGIN:VCALENDAR
VERSION:2.0
PRODID:-//The Glasgow Phoenix Choir - ECPv6.15.20//NONSGML v1.0//EN
CALSCALE:GREGORIAN
METHOD:PUBLISH
X-ORIGINAL-URL:http://www.phoenixchoir.org
X-WR-CALDESC:Events for The Glasgow Phoenix Choir
REFRESH-INTERVAL;VALUE=DURATION:PT1H
X-Robots-Tag:noindex
X-PUBLISHED-TTL:PT1H
BEGIN:VTIMEZONE
TZID:Europe/London
BEGIN:DAYLIGHT
TZOFFSETFROM:+0000
TZOFFSETTO:+0100
TZNAME:BST
DTSTART:20240331T010000
END:DAYLIGHT
BEGIN:STANDARD
TZOFFSETFROM:+0100
TZOFFSETTO:+0000
TZNAME:GMT
DTSTART:20241027T010000
END:STANDARD
BEGIN:DAYLIGHT
TZOFFSETFROM:+0000
TZOFFSETTO:+0100
TZNAME:BST
DTSTART:20250330T010000
END:DAYLIGHT
BEGIN:STANDARD
TZOFFSETFROM:+0100
TZOFFSETTO:+0000
TZNAME:GMT
DTSTART:20251026T010000
END:STANDARD
BEGIN:DAYLIGHT
TZOFFSETFROM:+0000
TZOFFSETTO:+0100
TZNAME:BST
DTSTART:20260329T010000
END:DAYLIGHT
BEGIN:STANDARD
TZOFFSETFROM:+0100
TZOFFSETTO:+0000
TZNAME:GMT
DTSTART:20261025T010000
END:STANDARD
END:VTIMEZONE
BEGIN:VEVENT
DTSTART;TZID=Europe/London:20251108T160000
DTEND;TZID=Europe/London:20251108T180000
DTSTAMP:20260421T193954
CREATED:20250919T135444Z
LAST-MODIFIED:20250928T121612Z
UID:12220-1762617600-1762624800@www.phoenixchoir.org
SUMMARY:KIRKINTILLOCH: St David's Memorial Park Church
DESCRIPTION:The choir is looking forward to a return to St David’s Memorial Park Church. We’ll be singing a mixed programme of choral music with some individual singing from our wonderful soloists. The concert is in aid of two causes: “Kirkie & Lenzie Build South Africa 2026” and East Dunbartonshire Food Bank. \nTickets are available from Create ED Gallery\,  46 Cowgate\, Kirkintilloch\, and The Greenhouse café\, Kirkintilloch Baptist Church; \nor from We Got Tickets. \n 
URL:http://www.phoenixchoir.org/concert/kirkintilloch-st-davids-memorial-park-church-2/
LOCATION:St David’s Memorial Park Church\, Alexandra Street\, Kirkintilloch\, G66 1HE\, United Kingdom
END:VEVENT
END:VCALENDAR